BEGIN:VCALENDAR
VERSION:2.0
PRODID:-//Sängerkreis Wittgenstein - ECPv6.15.20//NONSGML v1.0//EN
CALSCALE:GREGORIAN
METHOD:PUBLISH
X-WR-CALNAME:Sängerkreis Wittgenstein
X-ORIGINAL-URL:https://sk-wittgenstein.com
X-WR-CALDESC:Veranstaltungen für Sängerkreis Wittgenstein
REFRESH-INTERVAL;VALUE=DURATION:PT1H
X-Robots-Tag:noindex
X-PUBLISHED-TTL:PT1H
BEGIN:VTIMEZONE
TZID:Europe/Berlin
BEGIN:DAYLIGHT
TZOFFSETFROM:+0100
TZOFFSETTO:+0200
TZNAME:CEST
DTSTART:20250330T010000
END:DAYLIGHT
BEGIN:STANDARD
TZOFFSETFROM:+0200
TZOFFSETTO:+0100
TZNAME:CET
DTSTART:20251026T010000
END:STANDARD
BEGIN:DAYLIGHT
TZOFFSETFROM:+0100
TZOFFSETTO:+0200
TZNAME:CEST
DTSTART:20260329T010000
END:DAYLIGHT
BEGIN:STANDARD
TZOFFSETFROM:+0200
TZOFFSETTO:+0100
TZNAME:CET
DTSTART:20261025T010000
END:STANDARD
BEGIN:DAYLIGHT
TZOFFSETFROM:+0100
TZOFFSETTO:+0200
TZNAME:CEST
DTSTART:20270328T010000
END:DAYLIGHT
BEGIN:STANDARD
TZOFFSETFROM:+0200
TZOFFSETTO:+0100
TZNAME:CET
DTSTART:20271031T010000
END:STANDARD
END:VTIMEZONE
BEGIN:VEVENT
DTSTART;TZID=Europe/Berlin:20260502T193000
DTEND;TZID=Europe/Berlin:20260502T193000
DTSTAMP:20260420T095923
CREATED:20260415T063432Z
LAST-MODIFIED:20260415T063757Z
UID:868-1777750200-1777750200@sk-wittgenstein.com
SUMMARY:Internationales Chorkonzert
DESCRIPTION:mit dem Achterhoeks Mannenkoor aus den Niederlanden\, dem Gem. Chor Klangschmiede Wittgenstein und dem MGV 1884 Kleingladenbach e.V.
URL:https://sk-wittgenstein.com/event/internationales-chorkonzert/
LOCATION:Haus des Gastes\, Wilhelmsplatz 3\, Bad Laasphe\, NRW\, 57334\, Germany
END:VEVENT
BEGIN:VEVENT
DTSTART;TZID=Europe/Berlin:20260509T000000
DTEND;TZID=Europe/Berlin:20260509T235959
DTSTAMP:20260420T095923
CREATED:20260308T121640Z
LAST-MODIFIED:20260415T061356Z
UID:377-1778284800-1778371199@sk-wittgenstein.com
SUMMARY:Frühlingskonzert des Gem. Chores „Liederkranz“ Schameder
DESCRIPTION:Weitere Mitwirkende: MGV „Eintracht“ Morsbach e.V. (Leitung Michael Rinscheid)\, Kinderchor der Grundschule Bad Laasphe (Leitung Beate Weyand)
URL:https://sk-wittgenstein.com/event/fruehlingskonzert-des-gem-chores-liederkranz-schameder/
LOCATION:Schützenhalle Erndtebrück\, Schulstraße 35\, Erndtebrück\, 57339\, Germany
END:VEVENT
BEGIN:VEVENT
DTSTART;TZID=Europe/Berlin:20260530T000000
DTEND;TZID=Europe/Berlin:20260530T235959
DTSTAMP:20260420T095923
CREATED:20260404T175736Z
LAST-MODIFIED:20260405T110047Z
UID:611-1780099200-1780185599@sk-wittgenstein.com
SUMMARY:50jähriges Chorleiterjubiläum Gerhard Hennecke
DESCRIPTION:Ausrichter: Gem. Chor „Einigkeit“ Wingeshausen 1947
URL:https://sk-wittgenstein.com/event/50jaehriges-chorleiterjubilaeum-gerhard-hennecke/
LOCATION:Bürgerhaus Aue\, Sehlbergweg 9\, Bad Berleburg- Aue\, 57319\, Germany
END:VEVENT
END:VCALENDAR