BEGIN:VCALENDAR
VERSION:2.0
PRODID:-//Sängerkreis Wittgenstein - ECPv6.15.20//NONSGML v1.0//EN
CALSCALE:GREGORIAN
METHOD:PUBLISH
X-WR-CALNAME:Sängerkreis Wittgenstein
X-ORIGINAL-URL:https://sk-wittgenstein.com
X-WR-CALDESC:Veranstaltungen für Sängerkreis Wittgenstein
REFRESH-INTERVAL;VALUE=DURATION:PT1H
X-Robots-Tag:noindex
X-PUBLISHED-TTL:PT1H
BEGIN:VTIMEZONE
TZID:Europe/Berlin
BEGIN:DAYLIGHT
TZOFFSETFROM:+0100
TZOFFSETTO:+0200
TZNAME:CEST
DTSTART:20250330T010000
END:DAYLIGHT
BEGIN:STANDARD
TZOFFSETFROM:+0200
TZOFFSETTO:+0100
TZNAME:CET
DTSTART:20251026T010000
END:STANDARD
BEGIN:DAYLIGHT
TZOFFSETFROM:+0100
TZOFFSETTO:+0200
TZNAME:CEST
DTSTART:20260329T010000
END:DAYLIGHT
BEGIN:STANDARD
TZOFFSETFROM:+0200
TZOFFSETTO:+0100
TZNAME:CET
DTSTART:20261025T010000
END:STANDARD
BEGIN:DAYLIGHT
TZOFFSETFROM:+0100
TZOFFSETTO:+0200
TZNAME:CEST
DTSTART:20270328T010000
END:DAYLIGHT
BEGIN:STANDARD
TZOFFSETFROM:+0200
TZOFFSETTO:+0100
TZNAME:CET
DTSTART:20271031T010000
END:STANDARD
END:VTIMEZONE
BEGIN:VEVENT
DTSTART;TZID=Europe/Berlin:20261018T000000
DTEND;TZID=Europe/Berlin:20261018T235959
DTSTAMP:20260420T160151
CREATED:20260415T060226Z
LAST-MODIFIED:20260415T061510Z
UID:855-1792281600-1792367999@sk-wittgenstein.com
SUMMARY:Christlich-Jüdisches Gemeinschaftskonzert
DESCRIPTION:
URL:https://sk-wittgenstein.com/event/christlich-juedisches-gemeinschaftskonzert/
LOCATION:Alte Synagoge Bad Laasphe\, Mauerstraße 44\, Bad Laasphe\, NRW\, 57334\, Germany
END:VEVENT
BEGIN:VEVENT
DTSTART;TZID=Europe/Berlin:20261018T170000
DTEND;TZID=Europe/Berlin:20261018T170000
DTSTAMP:20260420T160151
CREATED:20260404T180105Z
LAST-MODIFIED:20260405T110210Z
UID:618-1792342800-1792342800@sk-wittgenstein.com
SUMMARY:Konzert 125 Jahre evangelische Kirche Birkelbach
DESCRIPTION:mit CHORISMA Birkelbach und dem MGV „Sangeslust“ Birkefehl
URL:https://sk-wittgenstein.com/event/konzert-125-jahre-evangelische-kirche-birkelbach/
LOCATION:Evangelische Kirche Birkelbach\, Im Nickelsgrund 9\, Erndtebrück- Birkelbach\, 57339\, Germany
END:VEVENT
END:VCALENDAR